BEGIN:VCALENDAR
VERSION:2.0
PRODID:-//Readington Recreation - ECPv6.15.20//NONSGML v1.0//EN
CALSCALE:GREGORIAN
METHOD:PUBLISH
X-WR-CALNAME:Readington Recreation
X-ORIGINAL-URL:https://readingtonrecreation.org
X-WR-CALDESC:Events for Readington Recreation
REFRESH-INTERVAL;VALUE=DURATION:PT1H
X-Robots-Tag:noindex
X-PUBLISHED-TTL:PT1H
BEGIN:VTIMEZONE
TZID:America/New_York
BEGIN:DAYLIGHT
TZOFFSETFROM:-0500
TZOFFSETTO:-0400
TZNAME:EDT
DTSTART:20220313T070000
END:DAYLIGHT
BEGIN:STANDARD
TZOFFSETFROM:-0400
TZOFFSETTO:-0500
TZNAME:EST
DTSTART:20221106T060000
END:STANDARD
BEGIN:DAYLIGHT
TZOFFSETFROM:-0500
TZOFFSETTO:-0400
TZNAME:EDT
DTSTART:20230312T070000
END:DAYLIGHT
BEGIN:STANDARD
TZOFFSETFROM:-0400
TZOFFSETTO:-0500
TZNAME:EST
DTSTART:20231105T060000
END:STANDARD
BEGIN:DAYLIGHT
TZOFFSETFROM:-0500
TZOFFSETTO:-0400
TZNAME:EDT
DTSTART:20240310T070000
END:DAYLIGHT
BEGIN:STANDARD
TZOFFSETFROM:-0400
TZOFFSETTO:-0500
TZNAME:EST
DTSTART:20241103T060000
END:STANDARD
BEGIN:DAYLIGHT
TZOFFSETFROM:-0500
TZOFFSETTO:-0400
TZNAME:EDT
DTSTART:20250309T070000
END:DAYLIGHT
BEGIN:STANDARD
TZOFFSETFROM:-0400
TZOFFSETTO:-0500
TZNAME:EST
DTSTART:20251102T060000
END:STANDARD
BEGIN:DAYLIGHT
TZOFFSETFROM:-0500
TZOFFSETTO:-0400
TZNAME:EDT
DTSTART:20260308T070000
END:DAYLIGHT
BEGIN:STANDARD
TZOFFSETFROM:-0400
TZOFFSETTO:-0500
TZNAME:EST
DTSTART:20261101T060000
END:STANDARD
END:VTIMEZONE
BEGIN:VEVENT
DTSTART;TZID=America/New_York:20250512T170000
DTEND;TZID=America/New_York:20250512T200000
DTSTAMP:20260419T111235
CREATED:20250512T134822Z
LAST-MODIFIED:20250512T135120Z
UID:10003391-1747069200-1747080000@readingtonrecreation.org
SUMMARY:Field Rental Serafyn Spring 2025
DESCRIPTION:Field Rentals: \nMay 12th Cornhuskers A unlined $40
URL:https://readingtonrecreation.org/program/field-rental-serafyn-spring-2025/
LOCATION:Cornhuskers Park\, Whitehouse Station\, 08889
CATEGORIES:Facility Rentals
GEO:40.6155663;-74.7702576
END:VEVENT
BEGIN:VEVENT
DTSTART;TZID=America/New_York:20250501T170000
DTEND;TZID=America/New_York:20250518T200000
DTSTAMP:20260419T111235
CREATED:20250428T162536Z
LAST-MODIFIED:20250428T162536Z
UID:10003381-1746118800-1747598400@readingtonrecreation.org
SUMMARY:Field Rentals DaQuisto Spring 2025
DESCRIPTION:Field Rentals: \nMay 11th and 18th LINED Cornhuskers A $120 \nMay 1st and 8th UNLINED Cornhuskers A $80 \nTotal $200
URL:https://readingtonrecreation.org/program/field-rentals-daquisto-spring-2025/
LOCATION:Cornhuskers Park\, Whitehouse Station\, 08889
CATEGORIES:Facility Rentals
GEO:40.6155663;-74.7702576
END:VEVENT
BEGIN:VEVENT
DTSTART;TZID=America/New_York:20240501T180000
DTEND;TZID=America/New_York:20240529T200000
DTSTAMP:20260419T111235
CREATED:20240425T173905Z
LAST-MODIFIED:20240425T173905Z
UID:10003232-1714586400-1717012800@readingtonrecreation.org
SUMMARY:Field Rentals Flemington Baseball
DESCRIPTION:Payment link for field rentals on 5/1\, 5/8\, 5/15\, 5/22\, 5/29 \nCornhuskers Park \n5 Rentals x $35 per use = $175
URL:https://readingtonrecreation.org/program/field-rentals-flemington-baseball/
LOCATION:Cornhuskers Park\, Whitehouse Station\, 08889
CATEGORIES:Facility Rentals
GEO:40.6155663;-74.7702576
END:VEVENT
BEGIN:VEVENT
DTSTART;TZID=America/New_York:20230816T163000
DTEND;TZID=America/New_York:20230816T183000
DTSTAMP:20260419T111235
CREATED:20230811T173303Z
LAST-MODIFIED:20230811T173303Z
UID:10003111-1692203400-1692210600@readingtonrecreation.org
SUMMARY:Field Rental Jersey Dripp Baseball
DESCRIPTION:Field Rental at Cornhuskers Park (Field A). \nWednesday 8/16/23 \nFee: $30
URL:https://readingtonrecreation.org/program/field-rental-jersey-dripp-baseball/
LOCATION:Cornhuskers Park\, Whitehouse Station\, 08889
CATEGORIES:Facility Rentals
GEO:40.6155663;-74.7702576
END:VEVENT
END:VCALENDAR