BEGIN:VCALENDAR
VERSION:2.0
PRODID:-//Readington Recreation - ECPv6.15.20//NONSGML v1.0//EN
CALSCALE:GREGORIAN
METHOD:PUBLISH
X-WR-CALNAME:Readington Recreation
X-ORIGINAL-URL:https://readingtonrecreation.org
X-WR-CALDESC:Events for Readington Recreation
REFRESH-INTERVAL;VALUE=DURATION:PT1H
X-Robots-Tag:noindex
X-PUBLISHED-TTL:PT1H
BEGIN:VTIMEZONE
TZID:America/New_York
BEGIN:DAYLIGHT
TZOFFSETFROM:-0500
TZOFFSETTO:-0400
TZNAME:EDT
DTSTART:20200308T070000
END:DAYLIGHT
BEGIN:STANDARD
TZOFFSETFROM:-0400
TZOFFSETTO:-0500
TZNAME:EST
DTSTART:20201101T060000
END:STANDARD
BEGIN:DAYLIGHT
TZOFFSETFROM:-0500
TZOFFSETTO:-0400
TZNAME:EDT
DTSTART:20210314T070000
END:DAYLIGHT
BEGIN:STANDARD
TZOFFSETFROM:-0400
TZOFFSETTO:-0500
TZNAME:EST
DTSTART:20211107T060000
END:STANDARD
BEGIN:DAYLIGHT
TZOFFSETFROM:-0500
TZOFFSETTO:-0400
TZNAME:EDT
DTSTART:20220313T070000
END:DAYLIGHT
BEGIN:STANDARD
TZOFFSETFROM:-0400
TZOFFSETTO:-0500
TZNAME:EST
DTSTART:20221106T060000
END:STANDARD
BEGIN:DAYLIGHT
TZOFFSETFROM:-0500
TZOFFSETTO:-0400
TZNAME:EDT
DTSTART:20230312T070000
END:DAYLIGHT
BEGIN:STANDARD
TZOFFSETFROM:-0400
TZOFFSETTO:-0500
TZNAME:EST
DTSTART:20231105T060000
END:STANDARD
BEGIN:DAYLIGHT
TZOFFSETFROM:-0500
TZOFFSETTO:-0400
TZNAME:EDT
DTSTART:20240310T070000
END:DAYLIGHT
BEGIN:STANDARD
TZOFFSETFROM:-0400
TZOFFSETTO:-0500
TZNAME:EST
DTSTART:20241103T060000
END:STANDARD
BEGIN:DAYLIGHT
TZOFFSETFROM:-0500
TZOFFSETTO:-0400
TZNAME:EDT
DTSTART:20250309T070000
END:DAYLIGHT
BEGIN:STANDARD
TZOFFSETFROM:-0400
TZOFFSETTO:-0500
TZNAME:EST
DTSTART:20251102T060000
END:STANDARD
END:VTIMEZONE
BEGIN:VEVENT
DTSTART;TZID=America/New_York:20240710T193000
DTEND;TZID=America/New_York:20240814T202000
DTSTAMP:20260421T042044
CREATED:20240227T175833Z
LAST-MODIFIED:20240528T163534Z
UID:10003209-1720639800-1723666800@readingtonrecreation.org
SUMMARY:ADULT Tennis Level 2 Wednesday Summer 2024
DESCRIPTION:Level 2 Adults (Ages 18+) \nWednesdays 7/10-8/14 \n7:30-8:20 pm at Pickell Park \n$147 \n\nThis class is for advanced beginner/intermediate players. \n  \n  \n  \n 
URL:https://readingtonrecreation.org/program/adult-tennis-level-2-summer-2024/
LOCATION:Pickell Park\, J65F+93 Whitehouse Station\, Readington Township\, NJ\, 08889\, United States
CATEGORIES:Tennis - Youth and Adult
GEO:40.6084375;-74.7773125
X-APPLE-STRUCTURED-LOCATION;VALUE=URI;X-ADDRESS=Pickell Park J65F+93 Whitehouse Station Readington Township NJ 08889 United States;X-APPLE-RADIUS=500;X-TITLE=J65F+93 Whitehouse Station:geo:-74.7773125,40.6084375
END:VEVENT
BEGIN:VEVENT
DTSTART;TZID=America/New_York:20240710T183000
DTEND;TZID=America/New_York:20240814T192000
DTSTAMP:20260421T042044
CREATED:20240227T163426Z
LAST-MODIFIED:20240429T151349Z
UID:10003208-1720636200-1723663200@readingtonrecreation.org
SUMMARY:Tennis Level 2 Ages 8-10 Wednesdays Summer 2024
DESCRIPTION:Level 2 Ages 8-10 \nWednesdays 7/10-8/14 \n6:30-7:20 pm  \nPickell Park \n$147 \n\nPlayers must bring their own racket. \nThis program targets advanced beginner to  intermediate players.   Time will also be dedicated to developing the player’s ability to participate in full match play.
URL:https://readingtonrecreation.org/program/tennis-level2-8-10-summer-2024/
LOCATION:Pickell Park\, J65F+93 Whitehouse Station\, Readington Township\, NJ\, 08889\, United States
CATEGORIES:Tennis - Youth and Adult
GEO:40.6084375;-74.7773125
X-APPLE-STRUCTURED-LOCATION;VALUE=URI;X-ADDRESS=Pickell Park J65F+93 Whitehouse Station Readington Township NJ 08889 United States;X-APPLE-RADIUS=500;X-TITLE=J65F+93 Whitehouse Station:geo:-74.7773125,40.6084375
END:VEVENT
BEGIN:VEVENT
DTSTART;TZID=America/New_York:20240710T173000
DTEND;TZID=America/New_York:20240814T182000
DTSTAMP:20260421T042044
CREATED:20240227T162908Z
LAST-MODIFIED:20240429T151838Z
UID:10003207-1720632600-1723659600@readingtonrecreation.org
SUMMARY:Tennis Level 1 Ages 11-14 Wednesdays Summer 2024
DESCRIPTION:Level 1 Ages 11-14 \nWednesdays 7/10-8/14 \n5:30-6:20 pm  \nPickell Park \n$147 \n\nPlayers must bring their own racket. \nThis program targets beginner to intermediate players.  The focus will be on developing basic shot techniques and skills.  Time will also be dedicated to developing the player’s ability to participate in full match play.
URL:https://readingtonrecreation.org/program/tennis-level1-11-14-summer-2024/
LOCATION:Pickell Park\, J65F+93 Whitehouse Station\, Readington Township\, NJ\, 08889\, United States
CATEGORIES:Tennis - Youth and Adult
GEO:40.6084375;-74.7773125
X-APPLE-STRUCTURED-LOCATION;VALUE=URI;X-ADDRESS=Pickell Park J65F+93 Whitehouse Station Readington Township NJ 08889 United States;X-APPLE-RADIUS=500;X-TITLE=J65F+93 Whitehouse Station:geo:-74.7773125,40.6084375
END:VEVENT
BEGIN:VEVENT
DTSTART;TZID=America/New_York:20240710T163000
DTEND;TZID=America/New_York:20240814T172000
DTSTAMP:20260421T042044
CREATED:20240227T162406Z
LAST-MODIFIED:20240408T165406Z
UID:10003206-1720629000-1723656000@readingtonrecreation.org
SUMMARY:Tennis Level 1 Ages 8-10 Wednesdays Summer 2024
DESCRIPTION:Level 1 Ages 8-10 \nWednesdays 7/10-8/14 \n4:30-5:20 pm  \nPickell Park \n$147 \n\nPlayers must bring their own racket. \nThis program targets beginner to intermediate players.  The focus will be on developing basic shot techniques and skills.  Time will also be dedicated to developing the player’s ability to participate in full match play.
URL:https://readingtonrecreation.org/program/tennis-level1-8-10-summer-2024/
LOCATION:Pickell Park\, J65F+93 Whitehouse Station\, Readington Township\, NJ\, 08889\, United States
CATEGORIES:Tennis - Youth and Adult
GEO:40.6084375;-74.7773125
X-APPLE-STRUCTURED-LOCATION;VALUE=URI;X-ADDRESS=Pickell Park J65F+93 Whitehouse Station Readington Township NJ 08889 United States;X-APPLE-RADIUS=500;X-TITLE=J65F+93 Whitehouse Station:geo:-74.7773125,40.6084375
END:VEVENT
BEGIN:VEVENT
DTSTART;TZID=America/New_York:20210707T170000
DTEND;TZID=America/New_York:20210818T175000
DTSTAMP:20260421T042044
CREATED:20210429T141844Z
LAST-MODIFIED:20211214T181254Z
UID:10002463-1625677200-1629309000@readingtonrecreation.org
SUMMARY:Tennis Level 1 Ages 5-8 WEDNESDAY 5:00 pm Summer 2021
DESCRIPTION:Level 1 Tennis for: \nAges 5-8\nWEDNESDAYS 5:00-5:50 pm \n7/7-8/18 \nPickell Park \nPlayers must bring their own racket. \nThis program targets beginner to intermediate players.  The focus will be on developing basic shot techniques and skills.  Time will also be dedicated to developing the player’s ability to participate in full match play.
URL:https://readingtonrecreation.org/program/tennis-level1-5-8-wed-5pm-summer-2021/
LOCATION:Pickell Park\, J65F+93 Whitehouse Station\, Readington Township\, NJ\, 08889\, United States
CATEGORIES:Tennis - Youth and Adult
ATTACH;FMTTYPE=image/jpeg:https://readingtonrecreation.org/wp-content/uploads/2020/08/tennis5-8-scaled.jpg
GEO:40.6084375;-74.7773125
X-APPLE-STRUCTURED-LOCATION;VALUE=URI;X-ADDRESS=Pickell Park J65F+93 Whitehouse Station Readington Township NJ 08889 United States;X-APPLE-RADIUS=500;X-TITLE=J65F+93 Whitehouse Station:geo:-74.7773125,40.6084375
END:VEVENT
END:VCALENDAR