BEGIN:VCALENDAR
VERSION:2.0
PRODID:-//Readington Recreation - ECPv6.15.20//NONSGML v1.0//EN
CALSCALE:GREGORIAN
METHOD:PUBLISH
X-WR-CALNAME:Readington Recreation
X-ORIGINAL-URL:https://readingtonrecreation.org
X-WR-CALDESC:Events for Readington Recreation
REFRESH-INTERVAL;VALUE=DURATION:PT1H
X-Robots-Tag:noindex
X-PUBLISHED-TTL:PT1H
BEGIN:VTIMEZONE
TZID:America/New_York
BEGIN:DAYLIGHT
TZOFFSETFROM:-0500
TZOFFSETTO:-0400
TZNAME:EDT
DTSTART:20250309T070000
END:DAYLIGHT
BEGIN:STANDARD
TZOFFSETFROM:-0400
TZOFFSETTO:-0500
TZNAME:EST
DTSTART:20251102T060000
END:STANDARD
BEGIN:DAYLIGHT
TZOFFSETFROM:-0500
TZOFFSETTO:-0400
TZNAME:EDT
DTSTART:20260308T070000
END:DAYLIGHT
BEGIN:STANDARD
TZOFFSETFROM:-0400
TZOFFSETTO:-0500
TZNAME:EST
DTSTART:20261101T060000
END:STANDARD
BEGIN:DAYLIGHT
TZOFFSETFROM:-0500
TZOFFSETTO:-0400
TZNAME:EDT
DTSTART:20270314T070000
END:DAYLIGHT
BEGIN:STANDARD
TZOFFSETFROM:-0400
TZOFFSETTO:-0500
TZNAME:EST
DTSTART:20271107T060000
END:STANDARD
END:VTIMEZONE
BEGIN:VEVENT
DTSTART;TZID=America/New_York:20260418T090000
DTEND;TZID=America/New_York:20260606T095000
DTSTAMP:20260424T055638
CREATED:20260105T163941Z
LAST-MODIFIED:20260107T144422Z
UID:10003509-1776502800-1780739400@readingtonrecreation.org
SUMMARY:Parent Assisted Soccer Squirts Ages 2-3 Spring 2026
DESCRIPTION:[vc_row][vc_column][vc_column_text css=””]Ages 2.5-3.5 with an adult participating \nSaturdays 4/18-6/6 2025 (no class 5/23) \nTime: 9:00-9:50 am \nLocation: Summer Road Park \nCost: $176 \n\n\nDiscover a unique and dynamic soccer experience designed to celebrate your child’s individual journey into the exciting world of soccer. Your child will develop core fundamental soccer skills\, such as kicking\, dribbling\, and shooting\, all with the support and guidance of a parent.  \n\n\nIn this program\, we place a strong emphasis on fostering essential life skills such as teamwork\, patience\, and self-confidence. Parents take on a supportive role\, offering guidance and assistance when required\, to ensure a positive experience. Join us in this journey of exploration and growth\, where your child’s unique pace is celebrated\, and Soccer becomes an enriching experience for the whole family.  \n\nShin guards are suggested.  Cleats are optional.[/vc_column_text][/vc_column][/vc_row]
URL:https://readingtonrecreation.org/program/parent-assisted-soccer-squirts-ages-2-3-spring-2026/
LOCATION:Summer Road Park\, 90 Summer Road\, Flemington\, NJ\, 08822
CATEGORIES:Pre-School Programs
GEO:40.5320545;-74.7783703
X-APPLE-STRUCTURED-LOCATION;VALUE=URI;X-ADDRESS=Summer Road Park 90 Summer Road Flemington NJ 08822;X-APPLE-RADIUS=500;X-TITLE=90 Summer Road:geo:-74.7783703,40.5320545
END:VEVENT
BEGIN:VEVENT
DTSTART;TZID=America/New_York:20260418T095000
DTEND;TZID=America/New_York:20260606T104000
DTSTAMP:20260424T055638
CREATED:20260108T173438Z
LAST-MODIFIED:20260414T135352Z
UID:10003533-1776505800-1780742400@readingtonrecreation.org
SUMMARY:Cheer Dance Ages 5-6.5 Spring 2026
DESCRIPTION:[vc_row][vc_column][vc_column_text css=””]Ages 5-6.5 \nSaturdays 4/18-6/7 (no class 5/23) \nSummer Road Park \n9:50-10:40 am \n$206 \n\nEvery registration now comes with an exclusive Cheer-Dance Bundle (a $85+ value)! The pack makes participants feel like part of the team and includes:\n\nPink T-shirt\nPink Hoodie\nSparkling Pom-Poms\nCoordinating Sequin Cheer Bow\n\n\nJump\, Cheer & Perform with Cheer Dance!\n\nThis high-energy program introduces children ages 4-5 to the fundamentals of cheerleading and dance. Led by experienced instructors\, participants will learn essential cheer motions\, beginner jumps\, and fun dance routines while building confidence\, coordination\, and teamwork.\nEach session includes age-appropriate movement drills\, interactive cheer chants\, and engaging music to keep kids active and motivated. Participants will work towards an exciting final routine with formations\, cheers\, and pom-pom performances!\nProgram Highlights:\n Cheer & Dance Fundamentals – Learn proper motions\, jumps & sequences!\n Fun Chants & Cheers – Engage in interactive call-and-response cheers!\n Pom-Pom Action – Shake\, twirl\, and perform with energy!\n Group Formations – Experience teamwork and spatial awareness!\n Final Performance – Celebrate skills with a fun showcase!\n\nUniform Requirement: A program shirt is included with registration and will be provided at the first class. To create the team atmosphere\, participants should wear black sports bottoms (shorts\, leggings\, skorts\, etc.) to each session. Please wear athletic sneakers to class.\n[/vc_column_text][/vc_column][/vc_row]
URL:https://readingtonrecreation.org/program/cheer-dance-ages-5-6-5-spring-2026/
LOCATION:Summer Road Park\, 90 Summer Road\, Flemington\, NJ\, 08822
CATEGORIES:Classes & Sport Clinics-Youth,Pre-School Programs
GEO:40.5320545;-74.7783703
X-APPLE-STRUCTURED-LOCATION;VALUE=URI;X-ADDRESS=Summer Road Park 90 Summer Road Flemington NJ 08822;X-APPLE-RADIUS=500;X-TITLE=90 Summer Road:geo:-74.7783703,40.5320545
END:VEVENT
BEGIN:VEVENT
DTSTART;TZID=America/New_York:20260418T100000
DTEND;TZID=America/New_York:20260606T115000
DTSTAMP:20260424T055638
CREATED:20260105T165104Z
LAST-MODIFIED:20260209T153451Z
UID:10003510-1776506400-1780746600@readingtonrecreation.org
SUMMARY:Soccer Squirts Ages 3-5 Spring 2026
DESCRIPTION:[vc_row][vc_column][vc_column_text css=””]Saturdays 4/18-6/6 2026 (no class 5/23) \n10:00-10:50 am OR 11:00-11:50 am \nAges 3-5  \nThis class is for Pre-School age children. Five year old players who are in Kindergarten should register for the Pre-K/K division of Recreation Soccer. \nIf your child is 4 or 5 and in Pre-K (going to K in Fall ’26) and has taken at least one session of Soccer Squirts\,  you have the option of this class or the Recreation Soccer League in the Pre-K/K division. \nLink to Recreation Soccer for Grades Pre-K/K: Rec Soccer Pre-K/K League \n\nLocation: Summer Road \nCost: $176 \nInstructor: US Sports \nLearn the fundamental skills of soccer through a program of structured activities\, fun based games and scrimmages. \nRequired: athletic sneakers or cleats and shin guards.[/vc_column_text][/vc_column][/vc_row]
URL:https://readingtonrecreation.org/program/soccer-squirts-ages-3-5-spring-2026/
LOCATION:Summer Road Park\, 90 Summer Road\, Flemington\, NJ\, 08822
CATEGORIES:Classes & Sport Clinics-Youth,Pre-School Programs
GEO:40.5320545;-74.7783703
X-APPLE-STRUCTURED-LOCATION;VALUE=URI;X-ADDRESS=Summer Road Park 90 Summer Road Flemington NJ 08822;X-APPLE-RADIUS=500;X-TITLE=90 Summer Road:geo:-74.7783703,40.5320545
END:VEVENT
BEGIN:VEVENT
DTSTART;TZID=America/New_York:20260418T105000
DTEND;TZID=America/New_York:20260606T114000
DTSTAMP:20260424T055638
CREATED:20260108T174642Z
LAST-MODIFIED:20260108T181239Z
UID:10003534-1776509400-1780746000@readingtonrecreation.org
SUMMARY:Cheer Dance Ages 6-8 Spring 2026
DESCRIPTION:[vc_row][vc_column][vc_column_text css=””]Ages 6-8 \nSaturdays 4/18-6/7 (no class 5/23) \nSummer Road Park \n10:50-11:40 am \n$206 \n\nEvery registration now comes with an exclusive Cheer-Dance Bundle (a $85+ value)! The pack makes participants feel like part of the team and includes:\n\nPink T-shirt\nPink Hoodie\nSparkling Pom-Poms\nCoordinating Sequin Cheer Bow\n\n\nJump\, Cheer & Perform with Cheer Dance!\n\nThis high-energy program introduces children to the fundamentals of cheerleading and dance. Led by experienced instructors\, participants will learn essential cheer motions\, beginner jumps\, and fun dance routines while building confidence\, coordination\, and teamwork.\nEach session includes age-appropriate movement drills\, interactive cheer chants\, and engaging music to keep kids active and motivated. Participants will work towards an exciting final routine with formations\, cheers\, and pom-pom performances!\nProgram Highlights:\n Cheer & Dance Fundamentals – Learn proper motions\, jumps & sequences!\n Fun Chants & Cheers – Engage in interactive call-and-response cheers!\n Pom-Pom Action – Shake\, twirl\, and perform with energy!\n Group Formations – Experience teamwork and spatial awareness!\n Final Performance – Celebrate skills with a fun showcase!\n\nUniform Requirement: A program shirt is included with registration and will be provided at the first class. To create the team atmosphere\, participants should wear black sports bottoms (shorts\, leggings\, skorts\, etc.) to each session. Please wear athletic sneakers to class.\n[/vc_column_text][/vc_column][/vc_row]
URL:https://readingtonrecreation.org/program/cheer-dance-ages-6-8-spring-2026/
LOCATION:Summer Road Park\, 90 Summer Road\, Flemington\, NJ\, 08822
CATEGORIES:Classes & Sport Clinics-Youth,Pre-School Programs
GEO:40.5320545;-74.7783703
X-APPLE-STRUCTURED-LOCATION;VALUE=URI;X-ADDRESS=Summer Road Park 90 Summer Road Flemington NJ 08822;X-APPLE-RADIUS=500;X-TITLE=90 Summer Road:geo:-74.7783703,40.5320545
END:VEVENT
BEGIN:VEVENT
DTSTART;TZID=America/New_York:20260419T090000
DTEND;TZID=America/New_York:20260607T102500
DTSTAMP:20260424T055638
CREATED:20260106T182858Z
LAST-MODIFIED:20260106T182858Z
UID:10003520-1776589200-1780827900@readingtonrecreation.org
SUMMARY:Parent & Me Multi Sports TODDLERS SPRING 2026
DESCRIPTION:[vc_row][vc_column][vc_column_text css=””]Parent & Me Multi Sports \nThis is a toddler class with an adult participating \nSundays 4/19-6/7 \nCornhuskers Park \nAges 18 months – 2.5 from 9:00 – 9:40 am OR \nAges 2-3.5 from 9:45 – 10:25 am \n(Please select class carefully below) \nFee:$176 \n\nFocus on movement\, coordination\, social interaction & motor skill development.\nParent or accompanying adult: will actively participate with their child at all times.\nCoach: delivers instructions to parents\, who then support their child to engage in the session.[/vc_column_text][/vc_column][/vc_row]
URL:https://readingtonrecreation.org/program/parent-me-multi-sports-toddlers-spring-2026/
LOCATION:Cornhuskers Park\, Whitehouse Station\, 08889
CATEGORIES:Pre-School Programs
GEO:40.6155663;-74.7702576
END:VEVENT
BEGIN:VEVENT
DTSTART;TZID=America/New_York:20260419T090000
DTEND;TZID=America/New_York:20260607T102500
DTSTAMP:20260424T055638
CREATED:20260410T174048Z
LAST-MODIFIED:20260410T174048Z
UID:10003585-1776589200-1780827900@readingtonrecreation.org
SUMMARY:Parent & Me Multi Sports Squirts Summer 2026
DESCRIPTION:[vc_row][vc_column][vc_column_text css=””]Parent & Me Multi Sports \nThis is a preschool class with an adult participating \nSundays 7/12-8/16 \nCornhuskers Park \nAges 2-3.5 from 8:30-9:10 am OR 10:00-10:40 am \n(Please select class carefully below) \nFee:$147 \n\nFocus on movement\, coordination\, social interaction & motor skill development.\nParent or accompanying adult: will actively participate with their child at all times.\nCoach: delivers instructions to parents\, who then support their child to engage in the session.[/vc_column_text][/vc_column][/vc_row]
URL:https://readingtonrecreation.org/program/parent-me-multi-sports-squirts-23-summer-2026/
LOCATION:Cornhuskers Park\, Whitehouse Station\, 08889
CATEGORIES:Pre-School Programs
GEO:40.6155663;-74.7702576
END:VEVENT
BEGIN:VEVENT
DTSTART;TZID=America/New_York:20260419T133000
DTEND;TZID=America/New_York:20260607T142000
DTSTAMP:20260424T055638
CREATED:20260106T174457Z
LAST-MODIFIED:20260106T174457Z
UID:10003517-1776605400-1780842000@readingtonrecreation.org
SUMMARY:T-Ball Pre-School Ages 3-4 Sundays Spring 2026
DESCRIPTION:[vc_row][vc_column][vc_column_text css=””]T-Ball Pre-school CLINIC for ages 3-4  \nThis class is intended for 3-4 year old children who will participate without a parent. There is also a “Parent Assist” T-Ball class for ages 2.5-3.5 if your child needs an adult to participate with him/her. \nSundays 4/19-6/7 (no class 5/24) \n1:30-2:20 pm \n$176 \nCornhuskers Park \nThis is a CLINIC\, not a team/league.  It is coached by US Sports Institute. \nUSSI’s T-Ball programs are the perfect introduction to baseball and softball for your young slugger! All of our T-Ball programs are designed to develop skills including hitting\, catching\, throwing\, and base-running. Using age-appropriate equipment\, children will learn the fundamentals and rules of the game in a safe and structured environment. \nEach T-Ball session consists of a series of fun games and activities that encourage skill development\, teamwork\, and most importantly\, fun! At the end of each session\, players will put their newly-learned skills into action in a T-Ball scrimmage.[/vc_column_text][/vc_column][/vc_row]
URL:https://readingtonrecreation.org/program/t-ball-pre-school-ages-3-4-sundays-spring-2026/
LOCATION:Cornhuskers Park\, Whitehouse Station\, 08889
CATEGORIES:Pre-School Programs
GEO:40.6155663;-74.7702576
END:VEVENT
BEGIN:VEVENT
DTSTART;TZID=America/New_York:20260419T143000
DTEND;TZID=America/New_York:20260607T152000
DTSTAMP:20260424T055638
CREATED:20260106T180156Z
LAST-MODIFIED:20260206T152329Z
UID:10003518-1776609000-1780845600@readingtonrecreation.org
SUMMARY:T-Ball Pre-K Ages 4-5 Sundays Spring 2026
DESCRIPTION:[vc_row][vc_column][vc_column_text css=””]T-Ball Pre-school CLINIC for ages 4-5 currently in Pre-K  \nThis class is intended for 4 and 5 year old children who are currently in Pre-K (going to K in Fall 2026) \nSundays 4/19-6/7 (no class 5/24) \n2:30-3:20 pm \n$176 \nCornhuskers Park \nThis is a CLINIC\, not a team/league.  It is coached by US Sports Institute. \nUSSI’s T-Ball programs are the perfect introduction to baseball and softball for your young slugger! All of our T-Ball programs are designed to develop skills including hitting\, catching\, throwing\, and base-running. Using age-appropriate equipment\, children will learn the fundamentals and rules of the game in a safe and structured environment. \nEach T-Ball session consists of a series of fun games and activities that encourage skill development\, teamwork\, and most importantly\, fun! At the end of each session\, players will put their newly-learned skills into action in a T-Ball scrimmage.[/vc_column_text][/vc_column][/vc_row]
URL:https://readingtonrecreation.org/program/t-ball-pre-k-ages-4-5-sundays-spring-2026/
LOCATION:Cornhuskers Park\, Whitehouse Station\, 08889
CATEGORIES:Classes & Sport Clinics-Youth,Pre-School Programs
GEO:40.6155663;-74.7702576
END:VEVENT
BEGIN:VEVENT
DTSTART;TZID=America/New_York:20260419T153000
DTEND;TZID=America/New_York:20260607T162000
DTSTAMP:20260424T055638
CREATED:20260106T180959Z
LAST-MODIFIED:20260416T160925Z
UID:10003519-1776612600-1780849200@readingtonrecreation.org
SUMMARY:T-Ball Parent Assisted Age 2.5-3.5 Sundays Spring 2026
DESCRIPTION:[vc_row][vc_column][vc_column_text css=””]T-Ball Pre-school CLINIC for 2.5-3.5 year old players with a participating adult. \nSundays 4/19-6/7 (no class 5/24) \n3:30-4:20 pm \n$176 \nCornhuskers Park \nThis is a CLINIC\, not a team/league.  It is coached by US Sports Institute. \n\nEmbark on an exciting T-Ball adventure tailored to match your child’s development and pace. Your child will dive into the world of baseball and softball\, nurturing essential T-Ball skills such as throwing\, hitting\, running\, and catching\, all with the support and guidance of a parent.  \n\n\nIn this program\, we place a strong emphasis on fostering essential life skills such as teamwork\, patience\, and self-confidence. Parents take on a supportive role\, offering guidance and assistance when required\, to ensure a positive experience. Join us in this journey of exploration and growth\, where your child’s unique pace is celebrated\, and T-Ball becomes an enriching experience for the whole family.  \n\n[/vc_column_text][/vc_column][/vc_row]
URL:https://readingtonrecreation.org/program/t-ball-parent-assisted-sundays-spring-2026/
LOCATION:Cornhuskers Park\, Whitehouse Station\, 08889
CATEGORIES:Pre-School Programs
GEO:40.6155663;-74.7702576
END:VEVENT
BEGIN:VEVENT
DTSTART;TZID=America/New_York:20260421T163000
DTEND;TZID=America/New_York:20260602T172000
DTSTAMP:20260424T055638
CREATED:20260107T164917Z
LAST-MODIFIED:20260112T161737Z
UID:10003526-1776789000-1780420800@readingtonrecreation.org
SUMMARY:Tennis Squirts Ages 3-5 Spring 2026
DESCRIPTION:[vc_row][vc_column][vc_column_text css=””]TUESDAYS 4/21-6/2 \nAges 3-5 \nTime: 4:30-5:20 pm \nLocation: Pickell Park \nPrice: $180 \n\nFollowing the guidelines set out by the USTA children develop their tennis skills in a fun environment. The program offers a variety of games and activities to promote maximum learning and enjoyment. \nRackets provided for tennis squirts.[/vc_column_text][/vc_column][/vc_row]
URL:https://readingtonrecreation.org/program/tennis-squirts-ages-3-5-spring-2026/
LOCATION:Pickell Park\, J65F+93 Whitehouse Station\, Readington Township\, NJ\, 08889\, United States
CATEGORIES:Pre-School Programs,Tennis - Youth and Adult
GEO:40.6084375;-74.7773125
X-APPLE-STRUCTURED-LOCATION;VALUE=URI;X-ADDRESS=Pickell Park J65F+93 Whitehouse Station Readington Township NJ 08889 United States;X-APPLE-RADIUS=500;X-TITLE=J65F+93 Whitehouse Station:geo:-74.7773125,40.6084375
END:VEVENT
BEGIN:VEVENT
DTSTART;TZID=America/New_York:20260707T163000
DTEND;TZID=America/New_York:20260811T172000
DTSTAMP:20260424T055638
CREATED:20260414T155155Z
LAST-MODIFIED:20260414T155155Z
UID:10003586-1783441800-1786468800@readingtonrecreation.org
SUMMARY:Tennis Squirts Ages 3-5 Summer 2026
DESCRIPTION:[vc_row][vc_column][vc_column_text css=””]TUESDAYS 7/7-8/11 \nAges 3-5 \nTime: 4:30-5:20 pm \nLocation: Pickell Park \nPrice: $155 \n\nFollowing the guidelines set out by the USTA children develop their tennis skills in a fun environment. The program offers a variety of games and activities to promote maximum learning and enjoyment. \nRackets provided for tennis squirts.[/vc_column_text][/vc_column][/vc_row]
URL:https://readingtonrecreation.org/program/tennis-squirts-ages-3-5-summer-2026/
LOCATION:Pickell Park\, J65F+93 Whitehouse Station\, Readington Township\, NJ\, 08889\, United States
CATEGORIES:Pre-School Programs,Tennis - Youth and Adult
GEO:40.6084375;-74.7773125
X-APPLE-STRUCTURED-LOCATION;VALUE=URI;X-ADDRESS=Pickell Park J65F+93 Whitehouse Station Readington Township NJ 08889 United States;X-APPLE-RADIUS=500;X-TITLE=J65F+93 Whitehouse Station:geo:-74.7773125,40.6084375
END:VEVENT
BEGIN:VEVENT
DTSTART;TZID=America/New_York:20260709T170000
DTEND;TZID=America/New_York:20260813T175000
DTSTAMP:20260424T055638
CREATED:20260331T170815Z
LAST-MODIFIED:20260331T170815Z
UID:10003577-1783616400-1786643400@readingtonrecreation.org
SUMMARY:Basketball Squirts Ages 3-5 Summer 2026
DESCRIPTION:[vc_row][vc_column][vc_column_text css=””]Ages 3-5 \nThursdays 5:00-5:50 pm \nJuly 9 – August 13 \nPICKELL PARK BASKETBALL COURT \nCost: $147 \n\nBasketball Squirts is the perfect class for introducing a child to basketball. Our professional coaches ensure that children are engaged in fun\, inclusive activities\, in a positive learning environment. \nUsing proportionately sized basketballs\, this class encourages players to develop motor skills and basic basketball techniques in passing\, dribbling\, and shooting. Players will be taught through a series of fun challenges\, structured activities and scrimmages adapted to ensure everyone achieves success. \n[/vc_column_text][/vc_column][/vc_row]
URL:https://readingtonrecreation.org/program/basketball-squirts-ages-3-5-summer-2026/
LOCATION:Pickell Park\, J65F+93 Whitehouse Station\, Readington Township\, NJ\, 08889\, United States
CATEGORIES:Basketball Programs,Classes & Sport Clinics-Youth,Pre-School Programs
GEO:40.6084375;-74.7773125
X-APPLE-STRUCTURED-LOCATION;VALUE=URI;X-ADDRESS=Pickell Park J65F+93 Whitehouse Station Readington Township NJ 08889 United States;X-APPLE-RADIUS=500;X-TITLE=J65F+93 Whitehouse Station:geo:-74.7773125,40.6084375
END:VEVENT
END:VCALENDAR