BEGIN:VCALENDAR
VERSION:2.0
PRODID:-//Readington Recreation - ECPv6.15.20//NONSGML v1.0//EN
CALSCALE:GREGORIAN
METHOD:PUBLISH
X-ORIGINAL-URL:https://readingtonrecreation.org
X-WR-CALDESC:Events for Readington Recreation
REFRESH-INTERVAL;VALUE=DURATION:PT1H
X-Robots-Tag:noindex
X-PUBLISHED-TTL:PT1H
BEGIN:VTIMEZONE
TZID:America/New_York
BEGIN:DAYLIGHT
TZOFFSETFROM:-0500
TZOFFSETTO:-0400
TZNAME:EDT
DTSTART:20230312T070000
END:DAYLIGHT
BEGIN:STANDARD
TZOFFSETFROM:-0400
TZOFFSETTO:-0500
TZNAME:EST
DTSTART:20231105T060000
END:STANDARD
BEGIN:DAYLIGHT
TZOFFSETFROM:-0500
TZOFFSETTO:-0400
TZNAME:EDT
DTSTART:20240310T070000
END:DAYLIGHT
BEGIN:STANDARD
TZOFFSETFROM:-0400
TZOFFSETTO:-0500
TZNAME:EST
DTSTART:20241103T060000
END:STANDARD
BEGIN:DAYLIGHT
TZOFFSETFROM:-0500
TZOFFSETTO:-0400
TZNAME:EDT
DTSTART:20250309T070000
END:DAYLIGHT
BEGIN:STANDARD
TZOFFSETFROM:-0400
TZOFFSETTO:-0500
TZNAME:EST
DTSTART:20251102T060000
END:STANDARD
END:VTIMEZONE
BEGIN:VEVENT
DTSTART;TZID=America/New_York:20240302T100000
DTEND;TZID=America/New_York:20240323T105000
DTSTAMP:20260424T073729
CREATED:20231121T172329Z
LAST-MODIFIED:20240122T154603Z
UID:10002827-1709373600-1711191000@readingtonrecreation.org
SUMMARY:Multi Sports Squirts Ages 3\,4\,5 Winter 2024
DESCRIPTION:Ages 3\,4\,5 \nSaturdays 3/2-3/23 2024 \n10:00-10:50 am \nWhitehouse School Gym \n$92 \nMulti-Sports Squirts allows children to experience a variety of sports throughout the program. Our professional coaches ensure that children are engaged in fun\, inclusive activities\, in a positive learning environment. \nPlayers will have the opportunity to try Lacrosse\, Soccer\, T-Ball\, & Track & Field. In addition to emphasizing the fundamentals of each sport\, each activity is designed to improve hand-eye coordination\, balance\, agility\, and movement. Classes will include a series of fun challenges\, structured activities\, and scrimmages adapted to ensure everyone achieves success.
URL:https://readingtonrecreation.org/program/multi-sports-ages-345-winter-2024/
LOCATION:Whitehouse School\, 50 Whitehouse Ave\, Whitehouse Station\, NJ\, 08889\, United States
CATEGORIES:Pre-School Programs
GEO:40.6146813;-74.7591261
X-APPLE-STRUCTURED-LOCATION;VALUE=URI;X-ADDRESS=Whitehouse School 50 Whitehouse Ave Whitehouse Station NJ 08889 United States;X-APPLE-RADIUS=500;X-TITLE=50 Whitehouse Ave:geo:-74.7591261,40.6146813
END:VEVENT
BEGIN:VEVENT
DTSTART;TZID=America/New_York:20240302T090000
DTEND;TZID=America/New_York:20240323T095000
DTSTAMP:20260424T073729
CREATED:20231121T171718Z
LAST-MODIFIED:20240122T154122Z
UID:10002826-1709370000-1711187400@readingtonrecreation.org
SUMMARY:Parent & Me Multi Sports Ages 2\,3 MARCH 2024
DESCRIPTION:Ages 2\,3 with an adult participating \nSaturdays 3/2-3/23 2024 \n9:00-9:50 am \nWhitehouse School Gym \n$92 \nMulti-Sports Squirts allows children to experience a variety of sports throughout the program. Our professional coaches ensure that children are engaged in fun\, inclusive activities\, in a positive learning environment. \nPlayers will have the opportunity to try Lacrosse\, Soccer\, T-Ball\, & Track & Field. In addition to emphasizing the fundamentals of each sport\, each activity is designed to improve hand-eye coordination\, balance\, agility\, and movement. Classes will include a series of fun challenges\, structured activities\, and scrimmages adapted to ensure everyone achieves success.
URL:https://readingtonrecreation.org/program/parent-assisted-multi-sports-ages-23-winter-2024/
LOCATION:Whitehouse School\, 50 Whitehouse Ave\, Whitehouse Station\, NJ\, 08889\, United States
CATEGORIES:Pre-School Programs
GEO:40.6146813;-74.7591261
X-APPLE-STRUCTURED-LOCATION;VALUE=URI;X-ADDRESS=Whitehouse School 50 Whitehouse Ave Whitehouse Station NJ 08889 United States;X-APPLE-RADIUS=500;X-TITLE=50 Whitehouse Ave:geo:-74.7591261,40.6146813
END:VEVENT
END:VCALENDAR