BEGIN:VCALENDAR
VERSION:2.0
PRODID:-//Readington Recreation - ECPv6.15.20//NONSGML v1.0//EN
CALSCALE:GREGORIAN
METHOD:PUBLISH
X-WR-CALNAME:Readington Recreation
X-ORIGINAL-URL:https://readingtonrecreation.org
X-WR-CALDESC:Events for Readington Recreation
REFRESH-INTERVAL;VALUE=DURATION:PT1H
X-Robots-Tag:noindex
X-PUBLISHED-TTL:PT1H
BEGIN:VTIMEZONE
TZID:America/New_York
BEGIN:DAYLIGHT
TZOFFSETFROM:-0500
TZOFFSETTO:-0400
TZNAME:EDT
DTSTART:20200308T070000
END:DAYLIGHT
BEGIN:STANDARD
TZOFFSETFROM:-0400
TZOFFSETTO:-0500
TZNAME:EST
DTSTART:20201101T060000
END:STANDARD
BEGIN:DAYLIGHT
TZOFFSETFROM:-0500
TZOFFSETTO:-0400
TZNAME:EDT
DTSTART:20210314T070000
END:DAYLIGHT
BEGIN:STANDARD
TZOFFSETFROM:-0400
TZOFFSETTO:-0500
TZNAME:EST
DTSTART:20211107T060000
END:STANDARD
BEGIN:DAYLIGHT
TZOFFSETFROM:-0500
TZOFFSETTO:-0400
TZNAME:EDT
DTSTART:20220313T070000
END:DAYLIGHT
BEGIN:STANDARD
TZOFFSETFROM:-0400
TZOFFSETTO:-0500
TZNAME:EST
DTSTART:20221106T060000
END:STANDARD
BEGIN:DAYLIGHT
TZOFFSETFROM:-0500
TZOFFSETTO:-0400
TZNAME:EDT
DTSTART:20230312T070000
END:DAYLIGHT
BEGIN:STANDARD
TZOFFSETFROM:-0400
TZOFFSETTO:-0500
TZNAME:EST
DTSTART:20231105T060000
END:STANDARD
BEGIN:DAYLIGHT
TZOFFSETFROM:-0500
TZOFFSETTO:-0400
TZNAME:EDT
DTSTART:20240310T070000
END:DAYLIGHT
BEGIN:STANDARD
TZOFFSETFROM:-0400
TZOFFSETTO:-0500
TZNAME:EST
DTSTART:20241103T060000
END:STANDARD
END:VTIMEZONE
BEGIN:VEVENT
DTSTART;TZID=America/New_York:20230311T110000
DTEND;TZID=America/New_York:20230603T173000
DTSTAMP:20260421T071446
CREATED:20221209T175308Z
LAST-MODIFIED:20230405T133722Z
UID:10002907-1678532400-1685813400@readingtonrecreation.org
SUMMARY:Girls Lacrosse 7th/8th Grade Team Spring 2023
DESCRIPTION:Readington Recreation Red Hawks Travel Lacrosse – 7th/8th Grade Team\nThis is the link to register for the 7th and 8th Grade team for Spring 2023 \nPractices begin March 11th inside at Branchburg Sports Arena. \n\n\n\nWinter Practice Schedule\n\n\n\n\n\n7th/8th Grade Team\n\n\n\n\n\nDAY\nDATE\nTIME\nFIELD\n\n\nSat\n11-Mar\n11am-noon\n2B\n\n\nMon\n13-Mar\n5:30-6:30pm\n2B\n\n\nWed\n15-Mar\n6:30-7:30pm\n2B\n\n\nMon\n20-Mar\n5:30-6:30pm\n2B\n\n\nWed\n22-Mar\n5-6pm\n2B\n\n\nMon\n27-Mar\n5:30-6:30pm\n2B\n\n\nWed\n29-Mar\n5-6pm\n2B\n\n\n\nOutdoor season begins April 4th. Practices are scheduled on Tuesdays\, Thursdays and Saturdays at Hillcrest Park. Home games are at Hillcrest and away games are in the central New Jersey area. Games may be on other days of the week. \nSeason ends early June. \n\nCost: $255 includes indoor practices. \nCost does not include uniforms which are ordered directly through Darrow’s Sporting Edge in Whitehouse Station. \n2023 uniform prices: top is $52\, skirt is $36. Required pinnie is $24.  If your 2022 uniform fits you do not need to buy another one. \nPlayers must provide their own lacrosse stick\, goggles\, cleats and mouth guard. \nDEADLINE TO REGISTER IS FEBRUARY 15th 2022. \n 
URL:https://readingtonrecreation.org/program/girls-lacrosse-7th-8th-grade-team-spring-2023/
LOCATION:Hillcrest Park\, 12 Hillcrest Road\, Whitehouse Station\, NJ\, 08889\, United States
CATEGORIES:Lacrosse
ATTACH;FMTTYPE=image/jpeg:https://readingtonrecreation.org/wp-content/uploads/2021/01/girls-logo-final.jpg
GEO:40.5673836;-74.7433767
X-APPLE-STRUCTURED-LOCATION;VALUE=URI;X-ADDRESS=Hillcrest Park 12 Hillcrest Road Whitehouse Station NJ 08889 United States;X-APPLE-RADIUS=500;X-TITLE=12 Hillcrest Road:geo:-74.7433767,40.5673836
END:VEVENT
BEGIN:VEVENT
DTSTART;TZID=America/New_York:20230311T110000
DTEND;TZID=America/New_York:20230315T193000
DTSTAMP:20260421T071446
CREATED:20230227T180223Z
LAST-MODIFIED:20230227T180650Z
UID:10002708-1678532400-1678908600@readingtonrecreation.org
SUMMARY:Girls Lacrosse Free Trial Practices Grades 5-8
DESCRIPTION:Come try out Girls Lacrosse at the indoor practices in March.\nPractices are at Branchburg Sports Arena. \nFirst three practices are open to new players for the 5/6 and 7/8 teams. \nThere are no more spots on the 3/4 team for this Spring. \n\nGrades 5/6 can attend:  \nSat Mar 11 11:00am – 12:00pm Field 2A\nMon Mar 13 6:30pm – 7:30pm Field 2B\nWed Mar 15 7:30pm – 8:30pm Field 2B \nGrades 7/8 can attend: \nSat Mar 11 11:00am – 12:00pm Field 2B\nMon Mar 13 5:30pm – 6:30pm Field 2B\nWed Mar 15 6:30pm – 7:30pm Field 2B \n\nThere is no cost to attend these trial practices. \nIf you have a girls lacrosse stick please bring it.  There will be some available to use.
URL:https://readingtonrecreation.org/program/girls-lacrosse-free-trial-practices-grades-5-8/
LOCATION:NJ
CATEGORIES:Lacrosse
END:VEVENT
BEGIN:VEVENT
DTSTART;TZID=America/New_York:20220125T181500
DTEND;TZID=America/New_York:20220125T191500
DTSTAMP:20260421T071446
CREATED:20211230T174504Z
LAST-MODIFIED:20220125T173625Z
UID:10002507-1643134500-1643138100@readingtonrecreation.org
SUMMARY:FREE Girls Lacrosse Clinic Winter 2022
DESCRIPTION:This clinic is now sold out !\nFREE one day clinic for girls lacrosse.  \nCOME TRY IT OUT! \nFree clinic but registration is required in advance. \nOpen to girls grades 2\,3\,4 \nTuesday January 25th \n6:15-7:15 pm \nHolland Brook School \nCoach Alyssa Dragon Frazier \nSticks available for use. \n 
URL:https://readingtonrecreation.org/program/free-girls-lacrosse-clinic-winter-2022/
LOCATION:Holland Brook School\, 52 Readington Road\, Whitehouse Station\, NJ\, 08889\, United States
CATEGORIES:Lacrosse
GEO:40.591045;-74.753254
X-APPLE-STRUCTURED-LOCATION;VALUE=URI;X-ADDRESS=Holland Brook School 52 Readington Road Whitehouse Station NJ 08889 United States;X-APPLE-RADIUS=500;X-TITLE=52 Readington Road:geo:-74.753254,40.591045
END:VEVENT
BEGIN:VEVENT
DTSTART;TZID=America/New_York:20210918T094500
DTEND;TZID=America/New_York:20211023T104500
DTSTAMP:20260421T071446
CREATED:20210625T162803Z
LAST-MODIFIED:20210917T141802Z
UID:10002486-1631958300-1634985900@readingtonrecreation.org
SUMMARY:Lacrosse Clinic Girls Grades K-4 Fall 2021
DESCRIPTION:Girls Lacrosse Clinic K-4 \nSaturdays 9/18-10/23\, rain date 10/30 \n9:45 – 10:45 am \nCoach: Alyssa Dragon \nHillcrest Park \nCost: $90 \nPlayers will begin to learn the fundamentals of girls lacrosse.  Skills include throwing\, catching\, cradling\, ground ball pick-ups\, dodging\, shooting and 1v1 defense. \nEquipment needed: Girls Lacrosse stick\, cleats or athletic sneakers\, goggles and mouth guard. \nA limited number of sticks are available for use and will be issued for the season on a first come first served basis.
URL:https://readingtonrecreation.org/program/lacrosse-clinic-girls-grades-k-4-fall-2021/
LOCATION:Hillcrest Park\, 12 Hillcrest Road\, Whitehouse Station\, NJ\, 08889\, United States
CATEGORIES:Lacrosse
GEO:40.5673836;-74.7433767
X-APPLE-STRUCTURED-LOCATION;VALUE=URI;X-ADDRESS=Hillcrest Park 12 Hillcrest Road Whitehouse Station NJ 08889 United States;X-APPLE-RADIUS=500;X-TITLE=12 Hillcrest Road:geo:-74.7433767,40.5673836
END:VEVENT
BEGIN:VEVENT
DTSTART;TZID=America/New_York:20210911T130000
DTEND;TZID=America/New_York:20211030T143000
DTSTAMP:20260421T071446
CREATED:20210726T143350Z
LAST-MODIFIED:20210913T142022Z
UID:10002515-1631365200-1635604200@readingtonrecreation.org
SUMMARY:Girls Lacrosse Grades 7/8 HILLSBOROUGH Team Fall 2021
DESCRIPTION:This is the link to register for the HILLSBOROUGH team for grades 7/8\n(ONLY REGISTER HERE IF YOU ARE ON A HILLSBOROUGH TEAM) \nSaturdays September 11th – October 30th \n1:00-2:30 pm \nHillcrest Park \n  \n 
URL:https://readingtonrecreation.org/program/girls-lacrosse-grades-78-hillsborough-team-fall-2021/
LOCATION:Hillcrest Park\, 12 Hillcrest Road\, Whitehouse Station\, NJ\, 08889\, United States
CATEGORIES:Lacrosse
GEO:40.5673836;-74.7433767
X-APPLE-STRUCTURED-LOCATION;VALUE=URI;X-ADDRESS=Hillcrest Park 12 Hillcrest Road Whitehouse Station NJ 08889 United States;X-APPLE-RADIUS=500;X-TITLE=12 Hillcrest Road:geo:-74.7433767,40.5673836
END:VEVENT
BEGIN:VEVENT
DTSTART;TZID=America/New_York:20210911T130000
DTEND;TZID=America/New_York:20211030T143000
DTSTAMP:20260421T071446
CREATED:20210726T142827Z
LAST-MODIFIED:20210913T143449Z
UID:10002513-1631365200-1635604200@readingtonrecreation.org
SUMMARY:Girls Lacrosse Grades 7/8 JR. LIONS Team Fall 2021
DESCRIPTION:This is the link to register for the JR. LIONS team for grades 7/8\n(ONLY REGISTER HERE IF YOU ARE ON A JR LIONS TEAM) \nSaturdays September 11th – October 30th \n1:00-2:30 pm \nHillcrest Park \n  \n 
URL:https://readingtonrecreation.org/program/girls-lacrosse-grades-78-jr-lions-team-fall-2021/
LOCATION:Hillcrest Park\, 12 Hillcrest Road\, Whitehouse Station\, NJ\, 08889\, United States
CATEGORIES:Lacrosse
GEO:40.5673836;-74.7433767
X-APPLE-STRUCTURED-LOCATION;VALUE=URI;X-ADDRESS=Hillcrest Park 12 Hillcrest Road Whitehouse Station NJ 08889 United States;X-APPLE-RADIUS=500;X-TITLE=12 Hillcrest Road:geo:-74.7433767,40.5673836
END:VEVENT
BEGIN:VEVENT
DTSTART;TZID=America/New_York:20210911T130000
DTEND;TZID=America/New_York:20211030T143000
DTSTAMP:20260421T071446
CREATED:20210720T150208Z
LAST-MODIFIED:20210913T143216Z
UID:10002511-1631365200-1635604200@readingtonrecreation.org
SUMMARY:Girls Lacrosse Grades 7/8 READINGTON Team Fall 2021
DESCRIPTION:This is the link to register for the READINGTON team for grades 7/8\n(If you play for a town other than Readington please scroll for your town team) \nSaturdays September 11th – October 30th \n1:00-2:30 pm \nHillcrest Park \nPlayers will wear their Spring Red Hawks uniforms. \n 
URL:https://readingtonrecreation.org/program/girls-lacrosse-grades-78-readington-team-fall-2021/
LOCATION:Hillcrest Park\, 12 Hillcrest Road\, Whitehouse Station\, NJ\, 08889\, United States
CATEGORIES:Lacrosse
GEO:40.5673836;-74.7433767
X-APPLE-STRUCTURED-LOCATION;VALUE=URI;X-ADDRESS=Hillcrest Park 12 Hillcrest Road Whitehouse Station NJ 08889 United States;X-APPLE-RADIUS=500;X-TITLE=12 Hillcrest Road:geo:-74.7433767,40.5673836
END:VEVENT
BEGIN:VEVENT
DTSTART;TZID=America/New_York:20210911T110000
DTEND;TZID=America/New_York:20211030T123000
DTSTAMP:20260421T071446
CREATED:20210726T151104Z
LAST-MODIFIED:20210913T141927Z
UID:10002527-1631358000-1635597000@readingtonrecreation.org
SUMMARY:Girls Lacrosse Grades 5/6 HILLSBOROUGH Team Fall 2021
DESCRIPTION:This is the link to register for the HILLSBOROUGH team for grades 5/6\n(ONLY REGISTER HERE IF YOU ARE ON A HILLSBOROUGH TEAM!) \nSaturdays September 11th – October 30th \n11:00 am – 12:30 pm \nHillcrest Park \nFee: $60 \n 
URL:https://readingtonrecreation.org/program/girls-lacrosse-grades-5-6-hillsborough-team-fall-2021/
LOCATION:Hillcrest Park\, 12 Hillcrest Road\, Whitehouse Station\, NJ\, 08889\, United States
CATEGORIES:Lacrosse
GEO:40.5673836;-74.7433767
X-APPLE-STRUCTURED-LOCATION;VALUE=URI;X-ADDRESS=Hillcrest Park 12 Hillcrest Road Whitehouse Station NJ 08889 United States;X-APPLE-RADIUS=500;X-TITLE=12 Hillcrest Road:geo:-74.7433767,40.5673836
END:VEVENT
BEGIN:VEVENT
DTSTART;TZID=America/New_York:20210911T110000
DTEND;TZID=America/New_York:20211030T123000
DTSTAMP:20260421T071446
CREATED:20210726T150640Z
LAST-MODIFIED:20210913T143025Z
UID:10002526-1631358000-1635597000@readingtonrecreation.org
SUMMARY:Girls Lacrosse Grades 5/6 JR. LIONS Team Fall 2021
DESCRIPTION:This is the link to register for the JR. LIONS team for grades 5/6\n(ONLY REGISTER HERE IF YOU ARE ON A JR. LIONS TEAM!) \nSaturdays September 11th – October 30th \n11:00 am – 12:30 pm \nHillcrest Park \nFee: $60 \n 
URL:https://readingtonrecreation.org/program/girls-lacrosse-grades-5-6-jr-lions-team-fall-2021/
LOCATION:Hillcrest Park\, 12 Hillcrest Road\, Whitehouse Station\, NJ\, 08889\, United States
CATEGORIES:Lacrosse
GEO:40.5673836;-74.7433767
X-APPLE-STRUCTURED-LOCATION;VALUE=URI;X-ADDRESS=Hillcrest Park 12 Hillcrest Road Whitehouse Station NJ 08889 United States;X-APPLE-RADIUS=500;X-TITLE=12 Hillcrest Road:geo:-74.7433767,40.5673836
END:VEVENT
BEGIN:VEVENT
DTSTART;TZID=America/New_York:20210911T110000
DTEND;TZID=America/New_York:20211030T123000
DTSTAMP:20260421T071446
CREATED:20210726T145558Z
LAST-MODIFIED:20210913T142912Z
UID:10002525-1631358000-1635597000@readingtonrecreation.org
SUMMARY:Girls Lacrosse Grades 5/6 BRIDGEWATER Team Fall 2021
DESCRIPTION:This is the link to register for the BRIDGEWATER team for grades 5/6\n(ONLY REGISTER HERE IF YOU ARE ON A BRIDGEWATER TEAM!) \nSaturdays September 11th – October 30th \n11:00 am – 12:30 pm \nHillcrest Park \nFee: $60 \n 
URL:https://readingtonrecreation.org/program/girls-lacrosse-grades-5-6-bridgewater-team-fall-2021/
LOCATION:Hillcrest Park\, 12 Hillcrest Road\, Whitehouse Station\, NJ\, 08889\, United States
CATEGORIES:Lacrosse
GEO:40.5673836;-74.7433767
X-APPLE-STRUCTURED-LOCATION;VALUE=URI;X-ADDRESS=Hillcrest Park 12 Hillcrest Road Whitehouse Station NJ 08889 United States;X-APPLE-RADIUS=500;X-TITLE=12 Hillcrest Road:geo:-74.7433767,40.5673836
END:VEVENT
BEGIN:VEVENT
DTSTART;TZID=America/New_York:20210911T110000
DTEND;TZID=America/New_York:20211030T123000
DTSTAMP:20260421T071446
CREATED:20210720T145759Z
LAST-MODIFIED:20210720T151652Z
UID:10002510-1631358000-1635597000@readingtonrecreation.org
SUMMARY:Girls Lacrosse Grades 4/5/6 READINGTON Team Fall 2021
DESCRIPTION:This is the link to register for the READINGTON team for grades 4/5/6\n(If you play for a town other than Readington please scroll for your town team) \nSaturdays September 11th – October 30th \n11:00 am – 12:30 pm \nHillcrest Park \nPlayers will wear their Spring Red Hawks uniforms. \n 
URL:https://readingtonrecreation.org/program/girls-lacrosse-grades-4-5-6-readington-team-fall-2021/
LOCATION:Hillcrest Park\, 12 Hillcrest Road\, Whitehouse Station\, NJ\, 08889\, United States
CATEGORIES:Lacrosse
GEO:40.5673836;-74.7433767
X-APPLE-STRUCTURED-LOCATION;VALUE=URI;X-ADDRESS=Hillcrest Park 12 Hillcrest Road Whitehouse Station NJ 08889 United States;X-APPLE-RADIUS=500;X-TITLE=12 Hillcrest Road:geo:-74.7433767,40.5673836
END:VEVENT
END:VCALENDAR